BEGIN:VCALENDAR
VERSION:2.0
PRODID:-//wp-events-plugin.com//7.2.3.1//EN
BEGIN:VEVENT
UID:803@dcsmallbizhelp.com
DTSTART:20250805T160000Z
DTEND:20250805T170000Z
DTSTAMP:20250811T141321Z
URL:https://dcsmallbizhelp.com/events/wbenc-woc-legacy-leading-with-excell
 ence-competencies-to-lead-high-performing-teams/
SUMMARY:WBENC WOC LEGACY Leading with Excellence: Competencies to Lead High
 -Performing Teams
DESCRIPTION:This session will provide actionable insights to help you stren
 gthen your leadership style\, build confidence\, and develop strategies to
  foster high-performing teams.\n
ATTACH;FMTTYPE=image/jpeg:https://dcsmallbizhelp.com/wp-content/uploads/20
 25/07/2024-WOC-1-2048x1365-1.webp
CATEGORIES:Webinars
LOCATION:\, \, 
X-APPLE-STRUCTURED-LOCATION;VALUE=URI;X-ADDRESS=\, ;X-APPLE-RADIUS=100;X-TI
 TLE=:geo:0,0
END:VEVENT
END:VCALENDAR