BEGIN:VCALENDAR
VERSION:2.0
PRODID:-//wp-events-plugin.com//7.2.3.1//EN
BEGIN:VEVENT
UID:1004@dcsmallbizhelp.com
DTSTART:20260211T120000Z
DTEND:20260211T130000Z
DTSTAMP:20260202T035636Z
URL:https://dcsmallbizhelp.com/events/utilizing-sba-programs-resources-to-
 help-your-business-succeed/
SUMMARY:Utilizing SBA Programs & Resources to Help Your Business Succeed
DESCRIPTION:In this webinar\, learn about getting funding and growing your 
 business from SBA programs.
ATTACH;FMTTYPE=image/jpeg:https://dcsmallbizhelp.com/wp-content/uploads/20
 25/06/Screenshot-2025-06-09-at-2.55.40 PM.png
CATEGORIES:Workshop
LOCATION:\, \, 
X-APPLE-STRUCTURED-LOCATION;VALUE=URI;X-ADDRESS=\, ;X-APPLE-RADIUS=100;X-TI
 TLE=:geo:0,0
END:VEVENT
END:VCALENDAR