BEGIN:VCALENDAR
VERSION:2.0
PRODID:-//wp-events-plugin.com//7.2.3.1//EN
BEGIN:VEVENT
UID:814@dcsmallbizhelp.com
DTSTART:20250818T160000Z
DTEND:20250818T170000Z
DTSTAMP:20250811T180459Z
URL:https://dcsmallbizhelp.com/events/understanding-the-balance-sheet-meas
 ure-the-health-of-your-business/
SUMMARY:Understanding the Balance Sheet: Measure the Health of Your Busines
 s
DESCRIPTION:In this free workshop for small business owners\, you'll learn 
 how to read and use your Balance Sheet to make smarter decisions\, track b
 usiness performance\, and plan for sustainable growth.
ATTACH;FMTTYPE=image/jpeg:https://dcsmallbizhelp.com/wp-content/uploads/20
 25/08/SSTB.png
CATEGORIES:Technical Assistance,Workshop
LOCATION:\, \, 
X-APPLE-STRUCTURED-LOCATION;VALUE=URI;X-ADDRESS=\, ;X-APPLE-RADIUS=100;X-TI
 TLE=:geo:0,0
END:VEVENT
END:VCALENDAR