BEGIN:VCALENDAR
VERSION:2.0
PRODID:-//wp-events-plugin.com//7.2.3.1//EN
BEGIN:VEVENT
UID:873@dcsmallbizhelp.com
DTSTART:20251023T093000Z
DTEND:20251023T160000Z
DTSTAMP:20251001T161017Z
URL:https://dcsmallbizhelp.com/events/understanding-and-leveraging-the-bal
 ance-sheet-in-your-small-business-copy/
SUMMARY:Level Up: Small Business Accelerator
DESCRIPTION:This session will provide critical knowledge for sustainable bu
 siness management and growth to the small business owner through understan
 ding the balance sheet and its implication for the health of the business.
ATTACH;FMTTYPE=image/jpeg:https://dcsmallbizhelp.com/wp-content/uploads/20
 25/07/logo.png
CATEGORIES:Workshop
LOCATION:\, \, 
X-APPLE-STRUCTURED-LOCATION;VALUE=URI;X-ADDRESS=\, ;X-APPLE-RADIUS=100;X-TI
 TLE=:geo:0,0
END:VEVENT
END:VCALENDAR