BEGIN:VCALENDAR
VERSION:2.0
PRODID:-//wp-events-plugin.com//7.2.3.1//EN
BEGIN:VEVENT
UID:1011@dcsmallbizhelp.com
DTSTART:20260219T110000Z
DTEND:20260219T123000Z
DTSTAMP:20260202T041621Z
URL:https://dcsmallbizhelp.com/events/the-art-of-financing-your-business-a
 -panel-discussion/
SUMMARY:The Art of Financing Your Business: A Panel Discussion
DESCRIPTION:This session will help demystify the financing landscape\, offe
 ring clarity on both traditional and alternative options.
ATTACH;FMTTYPE=image/jpeg:https://dcsmallbizhelp.com/wp-content/uploads/20
 25/07/download.png
CATEGORIES:Webinars
LOCATION:\, \, 
X-APPLE-STRUCTURED-LOCATION;VALUE=URI;X-ADDRESS=\, ;X-APPLE-RADIUS=100;X-TI
 TLE=:geo:0,0
END:VEVENT
END:VCALENDAR