BEGIN:VCALENDAR
VERSION:2.0
PRODID:-//wp-events-plugin.com//7.2.3.1//EN
BEGIN:VEVENT
UID:1002@dcsmallbizhelp.com
DTSTART:20260211T120000Z
DTEND:20260211T133000Z
DTSTAMP:20260202T035122Z
URL:https://dcsmallbizhelp.com/events/tax-preparation-for-the-self-employe
 d/
SUMMARY:Tax Preparation for the Self-Employed
DESCRIPTION:In this webinar\, you will gain an understanding of what you ca
 n expense and how - an essential for any Self-Employed taxpayer.
ATTACH;FMTTYPE=image/jpeg:https://dcsmallbizhelp.com/wp-content/uploads/20
 25/07/download.png
CATEGORIES:Webinars
END:VEVENT
END:VCALENDAR