BEGIN:VCALENDAR
VERSION:2.0
PRODID:-//wp-events-plugin.com//7.2.3.1//EN
BEGIN:VEVENT
UID:1029@dcsmallbizhelp.com
DTSTART:20260311T130000Z
DTEND:20260311T140000Z
DTSTAMP:20260223T193850Z
URL:https://dcsmallbizhelp.com/events/sustainable-foundations-101-201-copy
 /
SUMMARY:Ensuring ADA Compliance & Accessibility for Small Businesses
DESCRIPTION:In this session\, you’ll learn what the ADA requires\, where 
 small businesses most commonly face compliance risk\, and low-cost steps t
 hat can make your business more accessible while reducing legal exposure.
ATTACH;FMTTYPE=image/jpeg:https://dcsmallbizhelp.com/wp-content/uploads/20
 25/08/SSTB.png
CATEGORIES:Webinars
LOCATION:\, \, 
X-APPLE-STRUCTURED-LOCATION;VALUE=URI;X-ADDRESS=\, ;X-APPLE-RADIUS=100;X-TI
 TLE=:geo:0,0
END:VEVENT
END:VCALENDAR