BEGIN:VCALENDAR
VERSION:2.0
PRODID:-//wp-events-plugin.com//7.2.3.1//EN
BEGIN:VEVENT
UID:215@dcsmallbizhelp.com
DTSTART:20241028T100000Z
DTEND:20241102T160000Z
DTSTAMP:20241014T145751Z
URL:https://dcsmallbizhelp.com/events/steps-to-obtaining-a-business-licens
 e-11-call-session-2024-10-28/
SUMMARY:Steps to Obtaining a Business License - 1:1 Call Session
DESCRIPTION:During this phone call session\, you’ll get 1:1 assistance na
 vigating the regulatory process to learn how to obtain a business license 
 and register your business. Sessions are available by appointment\, Monday
  through Friday from 10 am to 4 pm.
ATTACH;FMTTYPE=image/jpeg:https://dcsmallbizhelp.com/wp-content/uploads/20
 24/09/pexels-zen-chung-5749154.png
CATEGORIES:Technical Assistance
LOCATION:\, \, 
X-APPLE-STRUCTURED-LOCATION;VALUE=URI;X-ADDRESS=\, ;X-APPLE-RADIUS=100;X-TI
 TLE=:geo:0,0
END:VEVENT
END:VCALENDAR