BEGIN:VCALENDAR
VERSION:2.0
PRODID:-//wp-events-plugin.com//7.2.3.1//EN
BEGIN:VEVENT
UID:807@dcsmallbizhelp.com
DTSTART:20250813T120000Z
DTEND:20250813T133000Z
DTSTAMP:20250811T145109Z
URL:https://dcsmallbizhelp.com/events/smart-clean-program-fall-2025-info-s
 ession-copy/
SUMMARY:What's Your Digital Marketing Success Plan?
DESCRIPTION:Join us for "What's Your Digital Marketing Success Plan?" where
  we’ll walk you through proven strategies to get more visibility\, bette
 r leads\, and real results.
ATTACH;FMTTYPE=image/jpeg:https://dcsmallbizhelp.com/wp-content/uploads/20
 25/07/download.png
CATEGORIES:Webinars
LOCATION:\, \, 
X-APPLE-STRUCTURED-LOCATION;VALUE=URI;X-ADDRESS=\, ;X-APPLE-RADIUS=100;X-TI
 TLE=:geo:0,0
END:VEVENT
END:VCALENDAR