BEGIN:VCALENDAR
VERSION:2.0
PRODID:-//wp-events-plugin.com//7.2.3.1//EN
BEGIN:VEVENT
UID:825@dcsmallbizhelp.com
DTSTART:20250826T130000Z
DTEND:20250826T140000Z
DTSTAMP:20250811T194958Z
URL:https://dcsmallbizhelp.com/events/smart-clean-program-fall-2025-info-s
 ession-copy-copy-2-copy-copy-copy-copy/
SUMMARY:Think Like a CEO: How to Structure Your Business for Sustainable Gr
 owth
DESCRIPTION:Learn how to create simple systems and workflows that reduce da
 ily chaos\, create clarity\, build sustainable business growth and allow y
 ou to lead your business rather than just manage tasks.
ATTACH;FMTTYPE=image/jpeg:https://dcsmallbizhelp.com/wp-content/uploads/20
 25/07/download.png
CATEGORIES:Webinars
LOCATION:\, \, 
X-APPLE-STRUCTURED-LOCATION;VALUE=URI;X-ADDRESS=\, ;X-APPLE-RADIUS=100;X-TI
 TLE=:geo:0,0
END:VEVENT
END:VCALENDAR