BEGIN:VCALENDAR
VERSION:2.0
PRODID:-//wp-events-plugin.com//7.2.3.1//EN
BEGIN:VEVENT
UID:869@dcsmallbizhelp.com
DTSTART:20251016T170000Z
DTEND:20251016T193000Z
DTSTAMP:20251001T152256Z
URL:https://dcsmallbizhelp.com/events/small-business-brief-advice-legal-cl
 inic/
SUMMARY:Small Business Brief Advice Legal Clinic
DESCRIPTION:This clinic is for aspiring or existing small business owners a
 nd entrepreneurs. Attendees will meet one-on-one with attorneys for brief 
 advice on any legal matters their business may be facing.
ATTACH;FMTTYPE=image/jpeg:https://dcsmallbizhelp.com/wp-content/uploads/20
 25/06/Screenshot-2025-06-10-at-2.24.50 PM.png
CATEGORIES:Technical Assistance
LOCATION:\, \, 
X-APPLE-STRUCTURED-LOCATION;VALUE=URI;X-ADDRESS=\, ;X-APPLE-RADIUS=100;X-TI
 TLE=:geo:0,0
END:VEVENT
END:VCALENDAR