BEGIN:VCALENDAR
VERSION:2.0
PRODID:-//wp-events-plugin.com//7.2.3.1//EN
BEGIN:VEVENT
UID:1006@dcsmallbizhelp.com
DTSTART:20260213T120000Z
DTEND:20260213T133000Z
DTSTAMP:20260202T040149Z
URL:https://dcsmallbizhelp.com/events/setting-up-a-new-business-entity/
SUMMARY:Setting Up a New Business Entity
DESCRIPTION:In this webinar\, learn how to register your business\, which l
 egal structure is best for your business\, what type of business insurance
  you might need\, and more. 
ATTACH;FMTTYPE=image/jpeg:https://dcsmallbizhelp.com/wp-content/uploads/20
 25/07/download.png
CATEGORIES:Webinars
LOCATION:\, \, 
X-APPLE-STRUCTURED-LOCATION;VALUE=URI;X-ADDRESS=\, ;X-APPLE-RADIUS=100;X-TI
 TLE=:geo:0,0
END:VEVENT
END:VCALENDAR