BEGIN:VCALENDAR
VERSION:2.0
PRODID:-//wp-events-plugin.com//7.2.3.1//EN
BEGIN:VEVENT
UID:774@dcsmallbizhelp.com
DTSTART:20250805T093000Z
DTEND:20250805T110000Z
DTSTAMP:20250729T144557Z
URL:https://dcsmallbizhelp.com/events/restaurant-summer-workshop-series-co
 py/
SUMMARY:Public Relations for Restaurants
DESCRIPTION:This free\, three-part summer workshop series is designed to su
 pport hospitality businesses in Ward 2. Each session will cover a key topi
 c to help restaurants\, bars\, and cafes strengthen operations\, support s
 taff\, and improve long-term success. Businesses are welcome to attend one
  session or all three. All sessions are virtual.
ATTACH;FMTTYPE=image/jpeg:https://dcsmallbizhelp.com/wp-content/uploads/20
 25/07/unnamed-1.png
CATEGORIES:Workshop
END:VEVENT
END:VCALENDAR