BEGIN:VCALENDAR
VERSION:2.0
PRODID:-//wp-events-plugin.com//7.2.3.1//EN
BEGIN:VEVENT
UID:854@dcsmallbizhelp.com
DTSTART:20251002T160000Z
DTEND:20251002T170000Z
DTSTAMP:20251001T132300Z
URL:https://dcsmallbizhelp.com/events/quarterly-taxes-for-small-businesses
 -file-stay-compliant/
SUMMARY:Quarterly Taxes for Small Businesses: File & Stay Compliant
DESCRIPTION:This webinar walks small business owners through the key steps 
 to estimate and file quarterly taxes on time\, and avoid penalties.
ATTACH;FMTTYPE=image/jpeg:https://dcsmallbizhelp.com/wp-content/uploads/20
 25/08/SSTB.png
CATEGORIES:Webinars,Workshop
END:VEVENT
END:VCALENDAR