BEGIN:VCALENDAR
VERSION:2.0
PRODID:-//wp-events-plugin.com//7.2.3.1//EN
BEGIN:VEVENT
UID:806@dcsmallbizhelp.com
DTSTART:20250812T150000Z
DTEND:20250812T161500Z
DTSTAMP:20250811T144552Z
URL:https://dcsmallbizhelp.com/events/patent-basics-for-small-businesses/
SUMMARY:Patent Basics for Small Businesses
DESCRIPTION: Join Start Small Think Big and a former U.S. patent examiner a
 nd attorney for a free webinar designed to help small business owners and 
 entrepreneurs understand the fundamentals of patent protection.
ATTACH;FMTTYPE=image/jpeg:https://dcsmallbizhelp.com/wp-content/uploads/20
 25/08/SSTB.png
CATEGORIES:Technical Assistance,Workshop
LOCATION:\, \, 
X-APPLE-STRUCTURED-LOCATION;VALUE=URI;X-ADDRESS=\, ;X-APPLE-RADIUS=100;X-TI
 TLE=:geo:0,0
END:VEVENT
END:VCALENDAR