BEGIN:VCALENDAR
VERSION:2.0
PRODID:-//wp-events-plugin.com//7.2.3.1//EN
BEGIN:VEVENT
UID:856@dcsmallbizhelp.com
DTSTART:20251003T140000Z
DTEND:20251003T150000Z
DTSTAMP:20251001T134128Z
URL:https://dcsmallbizhelp.com/events/messaging-that-sells-how-to-talk-abo
 ut-what-you-do/
SUMMARY:Messaging That Sells: How to Talk About What You Do
DESCRIPTION:Learn simple strategies to craft messaging that attracts client
 s\, drives sales\, and sparks growth.\n\nPresented by: Nasdaq Entrepreneur
 ial Center\n\nLocation: Virtual\n\nCost: Free
ATTACH;FMTTYPE=image/jpeg:https://dcsmallbizhelp.com/wp-content/uploads/20
 25/09/Nasdaq.png
CATEGORIES:Webinars
LOCATION:\, \, 
X-APPLE-STRUCTURED-LOCATION;VALUE=URI;X-ADDRESS=\, ;X-APPLE-RADIUS=100;X-TI
 TLE=:geo:0,0
END:VEVENT
END:VCALENDAR