BEGIN:VCALENDAR
VERSION:2.0
PRODID:-//wp-events-plugin.com//7.2.3.1//EN
BEGIN:VEVENT
UID:1010@dcsmallbizhelp.com
DTSTART:20260219T103000Z
DTEND:20260219T130000Z
DTSTAMP:20260202T041337Z
URL:https://dcsmallbizhelp.com/events/leveling-up-for-government-contracts
 /
SUMMARY:Leveling Up For Government Contracts
DESCRIPTION:In this two-day virtual training learning how to structure thei
 r businesses for public and corporate sector success
CATEGORIES:Workshop
LOCATION:\, \, 
X-APPLE-STRUCTURED-LOCATION;VALUE=URI;X-ADDRESS=\, ;X-APPLE-RADIUS=100;X-TI
 TLE=:geo:0,0
END:VEVENT
END:VCALENDAR