BEGIN:VCALENDAR
VERSION:2.0
PRODID:-//wp-events-plugin.com//7.2.3.1//EN
BEGIN:VEVENT
UID:1013@dcsmallbizhelp.com
DTSTART:20260220T110000Z
DTEND:20260220T120000Z
DTSTAMP:20260202T042038Z
URL:https://dcsmallbizhelp.com/events/leveling-up-for-government-contracts
 -2/
SUMMARY:Leveling Up For Government Contracts
DESCRIPTION:In this two-day virtual training learning how to structure thei
 r businesses for public and corporate sector success\, understand registra
 tion platforms (SAM.gov\, eMaryland Marketplace\, etc.)\, learn how to ide
 ntify\, read\, and respond to government RFPs\, and more.
CATEGORIES:Webinars,Workshop
END:VEVENT
END:VCALENDAR