BEGIN:VCALENDAR
VERSION:2.0
PRODID:-//wp-events-plugin.com//7.2.3.1//EN
BEGIN:VEVENT
UID:984@dcsmallbizhelp.com
DTSTART:20260204T120000Z
DTEND:20260204T130000Z
DTSTAMP:20260130T145845Z
URL:https://dcsmallbizhelp.com/events/know-sbas-capital-access-programs/
SUMMARY:Know SBA’s Capital Access Programs
DESCRIPTION:This webinar will discuss the U.S. Small Business Administratio
 n and the programs and funding opportunities for an array of business in v
 arious stages.
ATTACH;FMTTYPE=image/jpeg:https://dcsmallbizhelp.com/wp-content/uploads/20
 25/06/Screenshot-2025-06-09-at-2.55.40 PM-1.png
CATEGORIES:Webinars,Workshop
LOCATION:\, \, 
X-APPLE-STRUCTURED-LOCATION;VALUE=URI;X-ADDRESS=\, ;X-APPLE-RADIUS=100;X-TI
 TLE=:geo:0,0
END:VEVENT
END:VCALENDAR