BEGIN:VCALENDAR
VERSION:2.0
PRODID:-//wp-events-plugin.com//7.2.3.1//EN
BEGIN:VEVENT
UID:982@dcsmallbizhelp.com
DTSTART:20260203T110000Z
DTEND:20260203T123000Z
DTSTAMP:20260130T142233Z
URL:https://dcsmallbizhelp.com/events/investing-language-simplified/
SUMMARY:Investing Language Simplified
DESCRIPTION:Investing has a language all its own\, but getting comfortable 
 with it can help you become a more knowledgeable and confident investor.
ATTACH;FMTTYPE=image/jpeg:https://dcsmallbizhelp.com/wp-content/uploads/20
 25/08/chase.png
CATEGORIES:Technical Assistance,Workshop
LOCATION:\, \, 
X-APPLE-STRUCTURED-LOCATION;VALUE=URI;X-ADDRESS=\, ;X-APPLE-RADIUS=100;X-TI
 TLE=:geo:0,0
END:VEVENT
END:VCALENDAR