BEGIN:VCALENDAR
VERSION:2.0
PRODID:-//wp-events-plugin.com//7.2.3.1//EN
BEGIN:VEVENT
UID:417@dcsmallbizhelp.com
DTSTART:20250226T160000Z
DTEND:20250226T160000Z
DTSTAMP:20250124T153138Z
URL:https://dcsmallbizhelp.com/events/https-www-score-org-washingtondc-eve
 nt-borrowing-small-businesses-2262025/
SUMMARY:Borrowing for Small Businesses
DESCRIPTION:This session will help you understand your business’s financi
 ng options and put you in the best position to get the funding your busine
 ss needs.
ATTACH;FMTTYPE=image/jpeg:https://dcsmallbizhelp.com/wp-content/uploads/20
 24/10/pexels-tima-miroshnichenko-5912588.png
CATEGORIES:Webinars
LOCATION:\, \, 
X-APPLE-STRUCTURED-LOCATION;VALUE=URI;X-ADDRESS=\, ;X-APPLE-RADIUS=100;X-TI
 TLE=:geo:0,0
END:VEVENT
END:VCALENDAR