BEGIN:VCALENDAR
VERSION:2.0
PRODID:-//wp-events-plugin.com//7.2.3.1//EN
BEGIN:VEVENT
UID:274@dcsmallbizhelp.com
DTSTART:20241112T163000Z
DTEND:20241112T163000Z
DTSTAMP:20241028T175047Z
URL:https://dcsmallbizhelp.com/events/https-www-eventbrite-com-e-talk-it-o
 ut-tuesday-episode-3-tickets-1055218740659affoddtdtcreatorutm_campaigntalk
 -it-out-tuesdayutm_mediumemail_hsencp2anqtz-9hi3ucir-s9glbwwb4mtge-po3ynv/
SUMMARY:Talk It Out Tuesday: Sustainability
DESCRIPTION:This webinar will explore how businesses can achieve sustainabl
 e growth strategies while maintaining a balance between economic\, environ
 mental\, and social factors. Whether you are looking to enhance your susta
 inability practices\, understand the broader impacts of your business\, or
  position your company for long-term success\, this discussion will offer 
 valuable insights.
ATTACH;FMTTYPE=image/jpeg:https://dcsmallbizhelp.com/wp-content/uploads/20
 24/08/pexels-kindelmedia-9799997.jpg
CATEGORIES:Webinars
END:VEVENT
END:VCALENDAR