BEGIN:VCALENDAR
VERSION:2.0
PRODID:-//wp-events-plugin.com//7.2.3.1//EN
BEGIN:VEVENT
UID:524@dcsmallbizhelp.com
DTSTART:20250429T150000Z
DTEND:20250429T160000Z
DTSTAMP:20250428T194213Z
URL:https://dcsmallbizhelp.com/events/https-www-eventbrite-com-e-sustainab
 ility-101-what-does-esg-mean-for-me-tickets-1308468788369affoddtdtcreatoru
 tm_campaigninventoryutm_mediumemail_hsencp2anqtz-8ma2-ykkvev5g4wtnbrbmstnb
 5oo4-v/
SUMMARY:GREEN Access To Capital
DESCRIPTION:Learn about loan and line of credit options\, discover what it 
 takes to become a successful lending client\, and get insights into the ap
 plication process.
ATTACH;FMTTYPE=image/jpeg:https://dcsmallbizhelp.com/wp-content/uploads/20
 25/04/Screenshot-2025-04-28-at-3.39.33 PM.png
CATEGORIES:Webinars
LOCATION:\, \, 
X-APPLE-STRUCTURED-LOCATION;VALUE=URI;X-ADDRESS=\, ;X-APPLE-RADIUS=100;X-TI
 TLE=:geo:0,0
END:VEVENT
END:VCALENDAR