BEGIN:VCALENDAR
VERSION:2.0
PRODID:-//wp-events-plugin.com//7.2.3.1//EN
BEGIN:VEVENT
UID:601@dcsmallbizhelp.com
DTSTART:20250523T140000Z
DTEND:20250523T153000Z
DTSTAMP:20250521T195046Z
URL:https://dcsmallbizhelp.com/events/https-web-gwhcc-org-atlas-events-585
 7-details/
SUMMARY:Protecting Your Business & Building Financial Strength
DESCRIPTION:This session will cover essential strategies for protecting you
 r business against cyber threats and fraud\, followed by expert insights o
 n understanding and building strong credit.
ATTACH;FMTTYPE=image/jpeg:https://dcsmallbizhelp.com/wp-content/uploads/20
 25/05/tmp_79_1-27-2021_14913_-1.png
CATEGORIES:Webinars
LOCATION:\, \, 
X-APPLE-STRUCTURED-LOCATION;VALUE=URI;X-ADDRESS=\, ;X-APPLE-RADIUS=100;X-TI
 TLE=:geo:0,0
END:VEVENT
END:VCALENDAR