BEGIN:VCALENDAR
VERSION:2.0
PRODID:-//wp-events-plugin.com//7.2.3.1//EN
BEGIN:VEVENT
UID:270@dcsmallbizhelp.com
DTSTART:20241106T180000Z
DTEND:20241106T180000Z
DTSTAMP:20241028T171343Z
URL:https://dcsmallbizhelp.com/events/https-us02web-zoom-us-webinar-regist
 er-wn_jkngii0ftnmozenxelh2rq-registration/
SUMMARY:IP Essentials: Protecting Your Business Assets
DESCRIPTION:In this webinar\, learn the fundamentals of trademarks\, copyri
 ghts\, patents\, and trade secrets. This session will equip you with a cle
 ar understanding of IP types\, their roles in safeguarding your work\, and
  their critical importance to your business’s long-term success.
ATTACH;FMTTYPE=image/jpeg:https://dcsmallbizhelp.com/wp-content/uploads/20
 24/10/pexels-mutecevvil-20447513.png
CATEGORIES:Webinars
LOCATION:\, \, 
X-APPLE-STRUCTURED-LOCATION;VALUE=URI;X-ADDRESS=\, ;X-APPLE-RADIUS=100;X-TI
 TLE=:geo:0,0
END:VEVENT
END:VCALENDAR