BEGIN:VCALENDAR
VERSION:2.0
PRODID:-//wp-events-plugin.com//7.2.3.1//EN
BEGIN:VEVENT
UID:159@dcsmallbizhelp.com
DTSTART:20241003T140000Z
DTEND:20241003T140000Z
DTSTAMP:20240920T145719Z
URL:https://dcsmallbizhelp.com/events/https-ncrc-org-zoom-us-webinar-regis
 ter-wn_-ie1byofrqwqfwvtupzhfa-registration/
SUMMARY:Building a Resilient Financial Infrastructure
DESCRIPTION:As your business evolves\, it's crucial to have a resilient fin
 ancial infrastructure. This session will cover risk mitigation\, financial
  contingency planning\, and the tools needed to weather economic uncertain
 ties. 
ATTACH;FMTTYPE=image/jpeg:https://dcsmallbizhelp.com/wp-content/uploads/20
 24/08/pexels-mikhail-nilov-6930902.png
CATEGORIES:Webinars
LOCATION:\, \, 
X-APPLE-STRUCTURED-LOCATION;VALUE=URI;X-ADDRESS=\, ;X-APPLE-RADIUS=100;X-TI
 TLE=:geo:0,0
END:VEVENT
END:VCALENDAR