BEGIN:VCALENDAR
VERSION:2.0
PRODID:-//wp-events-plugin.com//7.2.3.1//EN
BEGIN:VEVENT
UID:530@dcsmallbizhelp.com
DTSTART:20250506T120000Z
DTEND:20250506T190000Z
DTSTAMP:20250428T201034Z
URL:https://dcsmallbizhelp.com/events/https-members-dcchamber-org-atlas-ev
 ents-v4-register-481974_gl112zoumu_gaoty2otaxmji3lje3ndq2njy5ody-_ga_5x06b
 gwrr5mtc0ndy2njk4ns4xljaumtc0ndy2njk4ns4wljauma-_ga2-83981273-1135324497-1
 7446-2/
SUMMARY:Small Business Summit 2025
DESCRIPTION:The annual POWERUP DC is a premier business summit that offers 
 invaluable information and resources to business owners and nonprofit prof
 essionals interested in launching\, growing\, and thriving in their ventur
 es.
ATTACH;FMTTYPE=image/jpeg:https://dcsmallbizhelp.com/wp-content/uploads/20
 25/04/Screenshot-2025-04-28-at-4.09.52 PM.png
CATEGORIES:Webinars
LOCATION:\, \, 
X-APPLE-STRUCTURED-LOCATION;VALUE=URI;X-ADDRESS=\, ;X-APPLE-RADIUS=100;X-TI
 TLE=:geo:0,0
END:VEVENT
END:VCALENDAR