BEGIN:VCALENDAR
VERSION:2.0
PRODID:-//wp-events-plugin.com//7.2.3.1//EN
BEGIN:VEVENT
UID:420@dcsmallbizhelp.com
DTSTART:20250212T140000Z
DTEND:20250212T160000Z
DTSTAMP:20250124T154025Z
URL:https://dcsmallbizhelp.com/events/https-ic-dcsbdc-org-workshop-aspxeke
 y540450018/
SUMMARY:The LinkedIn GLOW UP: Use LinkedIn to Attract Your Next Client
DESCRIPTION:In this webinar\, you'll learn how to transform your LinkedIn p
 resence and start converting connections into clients.
ATTACH;FMTTYPE=image/jpeg:https://dcsmallbizhelp.com/wp-content/uploads/20
 24/09/pexels-airamdphoto-16450745.png
CATEGORIES:Webinars
LOCATION:\, \, 
X-APPLE-STRUCTURED-LOCATION;VALUE=URI;X-ADDRESS=\, ;X-APPLE-RADIUS=100;X-TI
 TLE=:geo:0,0
END:VEVENT
END:VCALENDAR