BEGIN:VCALENDAR
VERSION:2.0
PRODID:-//wp-events-plugin.com//7.2.3.1//EN
BEGIN:VEVENT
UID:386@dcsmallbizhelp.com
DTSTART:20250212T160000Z
DTEND:20250212T160000Z
DTSTAMP:20250120T175009Z
URL:https://dcsmallbizhelp.com/events/https-ic-dcsbdc-org-workshop-aspxeke
 y540450010/
SUMMARY:Mastering Business Finances: Strategies for Small Business Success
DESCRIPTION:In this webinar\, you'll discover essential strategies to strea
 mline financial management and create a sustainable growth foundation for 
 your business.
ATTACH;FMTTYPE=image/jpeg:https://dcsmallbizhelp.com/wp-content/uploads/20
 24/10/pexels-karolina-grabowska-4968630.png
CATEGORIES:Webinars
LOCATION:\, \, 
X-APPLE-STRUCTURED-LOCATION;VALUE=URI;X-ADDRESS=\, ;X-APPLE-RADIUS=100;X-TI
 TLE=:geo:0,0
END:VEVENT
END:VCALENDAR