BEGIN:VCALENDAR
VERSION:2.0
PRODID:-//wp-events-plugin.com//7.2.3.1//EN
BEGIN:VEVENT
UID:388@dcsmallbizhelp.com
DTSTART:20250227T180000Z
DTEND:20250227T193000Z
DTSTAMP:20250120T175451Z
URL:https://dcsmallbizhelp.com/events/https-ic-dcsbdc-org-workshop-aspxeke
 y540450002/
SUMMARY:Business Foundation Series: The Lean Business Plan
DESCRIPTION:In this webinar\, you'll learn the lean business planning appro
 ach\, which focuses on the most important aspects of a traditional busines
 s plan without unnecessary details.
ATTACH;FMTTYPE=image/jpeg:https://dcsmallbizhelp.com/wp-content/uploads/20
 24/10/pexels-mutecevvil-20447513.png
CATEGORIES:Webinars
END:VEVENT
END:VCALENDAR