BEGIN:VCALENDAR
VERSION:2.0
PRODID:-//wp-events-plugin.com//7.2.3.1//EN
BEGIN:VEVENT
UID:550@dcsmallbizhelp.com
DTSTART:20250508T140000Z
DTEND:20250508T160000Z
DTSTAMP:20250508T035453Z
URL:https://dcsmallbizhelp.com/events/https-forms-office-com-pages-respons
 epage-aspxid9dzyrxqnzuodxx5p6qz5fwg4mhkbfjzenn5hjyqti_durevmofqwwkjdvvnxuu
 xiq0dym0hdwtk4wi4u/
SUMMARY:Metro's Government Procurement Fair
DESCRIPTION:Connect with key decision-makers and explore upcoming contracti
 ng opportunities. Network with industry leaders\, gain insights into the p
 rocurement process\, and discover how your business can partner with Metro
  for future projects.
ATTACH;FMTTYPE=image/jpeg:https://dcsmallbizhelp.com/wp-content/uploads/20
 25/05/Screenshot-2025-05-07-at-11.27.35 PM.png
CATEGORIES:Webinars
END:VEVENT
END:VCALENDAR