BEGIN:VCALENDAR
VERSION:2.0
PRODID:-//wp-events-plugin.com//7.2.3.1//EN
BEGIN:VEVENT
UID:766@dcsmallbizhelp.com
DTSTART:20250729T120000Z
DTEND:20250729T130000Z
DTSTAMP:20250729T141019Z
URL:https://dcsmallbizhelp.com/events/https-dlcpsbrc-ecenterdirect-com-log
 inevent70248-copy/
SUMMARY:Assembling Your BAIL Team: A is for Accountant
DESCRIPTION:Numbers tell the story of your business—and Katie Hanna from 
 Details Matter Bookkeeping & Advisory is here to help you read it. In this
  session\, you’ll learn the basics of bookkeeping\, how to track your in
 come and expenses\, and why clean financials are critical for funding\, ta
 xes\, and growth.
ATTACH;FMTTYPE=image/jpeg:https://dcsmallbizhelp.com/wp-content/uploads/20
 25/07/1752610452_GW_Cover_Images__11_.png
CATEGORIES:Webinars
LOCATION:\, \, 
X-APPLE-STRUCTURED-LOCATION;VALUE=URI;X-ADDRESS=\, ;X-APPLE-RADIUS=100;X-TI
 TLE=:geo:0,0
END:VEVENT
END:VCALENDAR