BEGIN:VCALENDAR
VERSION:2.0
PRODID:-//wp-events-plugin.com//7.2.3.1//EN
BEGIN:VEVENT
UID:797@dcsmallbizhelp.com
DTSTART:20250728T120000Z
DTEND:20250728T130000Z
DTSTAMP:20250729T174244Z
URL:https://dcsmallbizhelp.com/events/https-dlcpsbrc-ecenterdirect-com-log
 inevent70248-copy-copy-2/
SUMMARY:Assembling Your BAIL Team: B is for Banker
DESCRIPTION:Numbers tell the story of your business. In this session\, you
 ’ll learn the basics of bookkeeping\, how to track your income and expen
 ses\, and why clean financials are critical for funding\, taxes\, and grow
 th.
ATTACH;FMTTYPE=image/jpeg:https://dcsmallbizhelp.com/wp-content/uploads/20
 25/07/1752610004_GW_Cover_Images__10_.png
CATEGORIES:Technical Assistance,Webinars
END:VEVENT
END:VCALENDAR