BEGIN:VCALENDAR
VERSION:2.0
PRODID:-//wp-events-plugin.com//7.2.3.1//EN
BEGIN:VEVENT
UID:767@dcsmallbizhelp.com
DTSTART:20250729T153000Z
DTEND:20250729T170000Z
DTSTAMP:20250729T141425Z
URL:https://dcsmallbizhelp.com/events/https-dlcpsbrc-ecenterdirect-com-log
 inevent70248-copy-2/
SUMMARY:WBENC WOC - Getting Through Growing Pains: 4 Leadership Development
  Keys for Navigating Business Growth
DESCRIPTION:In this session\, Getting Through the Growing Pains: 4 Leadersh
 ip Development Keys for Navigating Business Growth\, attendees will walk a
 way with four keys for navigating business growth.
ATTACH;FMTTYPE=image/jpeg:https://dcsmallbizhelp.com/wp-content/uploads/20
 25/07/2024-WOC-1-2048x1365-1.webp
CATEGORIES:Webinars
LOCATION:\, \, 
X-APPLE-STRUCTURED-LOCATION;VALUE=URI;X-ADDRESS=\, ;X-APPLE-RADIUS=100;X-TI
 TLE=:geo:0,0
END:VEVENT
END:VCALENDAR