BEGIN:VCALENDAR
VERSION:2.0
PRODID:-//wp-events-plugin.com//7.2.3.1//EN
BEGIN:VEVENT
UID:771@dcsmallbizhelp.com
DTSTART:20250731T120000Z
DTEND:20250731T130000Z
DTSTAMP:20250729T143308Z
URL:https://dcsmallbizhelp.com/events/https-dlcpsbrc-ecenterdirect-com-log
 inevent70248-copy-2-copy/
SUMMARY:Ascend Retail 2025 Information Session
DESCRIPTION:We are excited to launch our Ascend Retail program for fall 202
 5. The Ascend Retail Cohort serves entrepreneurs interested in retail thro
 ugh a holistic\, multi-week program. Our hybrid approach includes interact
 ive workshops\, one-on-one consultations with business advisory support\, 
 and access to business mentorship. 
ATTACH;FMTTYPE=image/jpeg:https://dcsmallbizhelp.com/wp-content/uploads/20
 25/07/wacif-logo.png
CATEGORIES:Webinars
LOCATION:\, \, 
X-APPLE-STRUCTURED-LOCATION;VALUE=URI;X-ADDRESS=\, ;X-APPLE-RADIUS=100;X-TI
 TLE=:geo:0,0
END:VEVENT
END:VCALENDAR