BEGIN:VCALENDAR
VERSION:2.0
PRODID:-//wp-events-plugin.com//7.2.3.1//EN
BEGIN:VEVENT
UID:429@dcsmallbizhelp.com
DTSTART:20250305T140000Z
DTEND:20250305T180000Z
DTSTAMP:20250303T162052Z
URL:https://dcsmallbizhelp.com/events/https-dlcpsbrc-ecenterdirect-com-eve
 nts-68633/
SUMMARY:Business Diagnostic Check - In Person
DESCRIPTION:During this in-person session\, the DLCP Business Resource Cent
 er (BRC) staff will provide one-on-one assistance to navigate you through 
 the regulatory process. You will gain in-depth knowledge of registering wi
 th corporations (i.e. Limited Liability Company\, Corporations\, Non-Profi
 t\, etc.) and with the basic steps of obtaining a business license. This o
 pportunity is geared towards future and current business owners looking to
  conduct business in the District of Columbia.
ATTACH;FMTTYPE=image/jpeg:https://dcsmallbizhelp.com/wp-content/uploads/20
 24/10/pexels-a-darmel-7710088.png
CATEGORIES:Workshop
LOCATION:\, \, 
X-APPLE-STRUCTURED-LOCATION;VALUE=URI;X-ADDRESS=\, ;X-APPLE-RADIUS=100;X-TI
 TLE=:geo:0,0
END:VEVENT
END:VCALENDAR