BEGIN:VCALENDAR
VERSION:2.0
PRODID:-//wp-events-plugin.com//7.2.3.1//EN
BEGIN:VEVENT
UID:452@dcsmallbizhelp.com
DTSTART:20250319T210000Z
DTEND:20250319T233000Z
DTSTAMP:20250314T030849Z
URL:https://dcsmallbizhelp.com/events/https-dlcpsbrc-ecenterdirect-com-eve
 nts-67570/
SUMMARY:Small Business Brief Advice Legal Clinic
DESCRIPTION:If you are an existing or an aspiring small business owner\, co
 me and meet one-on-one with attorneys at the Small Business Brief Advice L
 egal Clinic sponsored by the DC Bar Pro Bono Center. At this clinic you ca
 n get information on business formation\, contracts\, leases\, taxes or an
 y other questions you may have related to small business legal issues. Or\
 , if you do not have specific questions\, come and tell the attorneys abou
 t your business—they can help you spot legal issues or give you general 
 advice.
ATTACH;FMTTYPE=image/jpeg:https://dcsmallbizhelp.com/wp-content/uploads/20
 24/10/pexels-rdne-7414111.png
CATEGORIES:Technical Assistance
END:VEVENT
END:VCALENDAR