BEGIN:VCALENDAR
VERSION:2.0
PRODID:-//wp-events-plugin.com//7.2.3.1//EN
BEGIN:VEVENT
UID:832@dcsmallbizhelp.com
DTSTART:20250812T150000Z
DTEND:20250812T153000Z
DTSTAMP:20250902T195848Z
URL:https://dcsmallbizhelp.com/events/https-dlcpsbrc-ecenterdirect-com-eve
 nts-67193-copy-3/
SUMMARY:BRC In-person 1.1 Session
DESCRIPTION:In this webinar\, you'll learn about accessing capital for your
  business through the DC BizCAP program. You'll also discover how to devel
 op funding strategies and access capital and technical resources.
ATTACH;FMTTYPE=image/jpeg:https://dcsmallbizhelp.com/wp-content/uploads/20
 25/06/Screenshot-2025-06-09-at-2.40.07 PM.png
CATEGORIES:Technical Assistance
END:VEVENT
END:VCALENDAR