BEGIN:VCALENDAR
VERSION:2.0
PRODID:-//wp-events-plugin.com//7.2.3.1//EN
BEGIN:VEVENT
UID:139@dcsmallbizhelp.com
DTSTART:20241022T140000Z
DTEND:20241022T150000Z
DTSTAMP:20241011T161314Z
URL:https://dcsmallbizhelp.com/events/https-abca-dc-gov-page-training-and-
 info-sessionsgsc-tab0/
SUMMARY:ABC 101- Alcoholic Beverage and Cannabis License
DESCRIPTION:This is a foundation course designed to introduce prospective a
 nd new ABC license holders—specifically on-premises and off-premises ret
 ailers and manufacturers— to ABCA and key ABC basics.
ATTACH;FMTTYPE=image/jpeg:https://dcsmallbizhelp.com/wp-content/uploads/20
 24/07/pexels-chris-f-38966-1283219-scaled.jpg
CATEGORIES:Webinars
LOCATION:\, \, 
X-APPLE-STRUCTURED-LOCATION;VALUE=URI;X-ADDRESS=\, ;X-APPLE-RADIUS=100;X-TI
 TLE=:geo:0,0
END:VEVENT
END:VCALENDAR