BEGIN:VCALENDAR
VERSION:2.0
PRODID:-//wp-events-plugin.com//7.2.3.1//EN
BEGIN:VEVENT
UID:764@dcsmallbizhelp.com
DTSTART:20250729T133000Z
DTEND:20250729T153000Z
DTSTAMP:20250729T142302Z
URL:https://dcsmallbizhelp.com/events/georgetown-tuesdays-copy/
SUMMARY:Sustainability Virtual Group Expert Open Hours
DESCRIPTION:This is your opportunity to connect with sustainability experts
  Mary and Liz from the Fehlig Group to ask questions\, gain strategic insi
 ghts\, and explore how to grow or transition your business within the gree
 n economy. 
ATTACH;FMTTYPE=image/jpeg:https://dcsmallbizhelp.com/wp-content/uploads/20
 25/07/wacif-logo.png
CATEGORIES:Technical Assistance
END:VEVENT
END:VCALENDAR