BEGIN:VCALENDAR
VERSION:2.0
PRODID:-//wp-events-plugin.com//7.2.3.1//EN
BEGIN:VEVENT
UID:765@dcsmallbizhelp.com
DTSTART:20250729T130000Z
DTEND:20250729T173000Z
DTSTAMP:20250729T135652Z
URL:https://dcsmallbizhelp.com/events/georgetown-tuesdays-copy-2/
SUMMARY:BRC In-person 1.1 Session: Steps to Obtaining a Business License
DESCRIPTION:During this in-person session\, the DLCP Business Resource Cent
 er (BRC) staff will provide one-on-one assistance in navigating the regula
 tory process.
ATTACH;FMTTYPE=image/jpeg:https://dcsmallbizhelp.com/wp-content/uploads/20
 25/06/Screenshot-2025-06-09-at-2.40.07 PM.png
CATEGORIES:Technical Assistance
END:VEVENT
END:VCALENDAR