BEGIN:VCALENDAR
VERSION:2.0
PRODID:-//wp-events-plugin.com//7.2.3.1//EN
BEGIN:VEVENT
UID:862@dcsmallbizhelp.com
DTSTART:20251014T130000Z
DTEND:20251014T140000Z
DTSTAMP:20251001T143256Z
URL:https://dcsmallbizhelp.com/events/from-startup-to-standout-scaling-you
 r-cpg-brand-with-expert-power/
SUMMARY:From Startup to Standout: Scaling Your CPG Brand with Expert Power
DESCRIPTION:In this session learn how to  tap into the fractional advantage
  to access top-tier expertise without full-time overhead\, explore real-wo
 rld case studies from emerging CPG brands.
ATTACH;FMTTYPE=image/jpeg:https://dcsmallbizhelp.com/wp-content/uploads/20
 25/09/Nasdaq.png
LOCATION:\, \, 
X-APPLE-STRUCTURED-LOCATION;VALUE=URI;X-ADDRESS=\, ;X-APPLE-RADIUS=100;X-TI
 TLE=:geo:0,0
END:VEVENT
END:VCALENDAR