BEGIN:VCALENDAR
VERSION:2.0
PRODID:-//wp-events-plugin.com//7.2.3.1//EN
BEGIN:VEVENT
UID:823@dcsmallbizhelp.com
DTSTART:20250822T120000Z
DTEND:20250822T133000Z
DTSTAMP:20250811T194239Z
URL:https://dcsmallbizhelp.com/events/from-overwhelmed-to-organized-how-a-
 virtual-assistant-can-help-you-grow/
SUMMARY:Cybersecurity for Small Businesses
DESCRIPTION:Businesses are exposed to more threats from hackers\, scammers\
 , viruses\, and malware than ever before. In fact\, 58 percent of cyber at
 tack victims are small businesses. 
ATTACH;FMTTYPE=image/jpeg:https://dcsmallbizhelp.com/wp-content/uploads/20
 25/07/download.png
CATEGORIES:Technical Assistance,Workshop
LOCATION:\, \, 
X-APPLE-STRUCTURED-LOCATION;VALUE=URI;X-ADDRESS=\, ;X-APPLE-RADIUS=100;X-TI
 TLE=:geo:0,0
END:VEVENT
END:VCALENDAR