BEGIN:VCALENDAR
VERSION:2.0
PRODID:-//wp-events-plugin.com//7.2.3.1//EN
BEGIN:VEVENT
UID:1018@dcsmallbizhelp.com
DTSTART:20260226T000000Z
DTEND:20260226T000000Z
DTSTAMP:20260202T043704Z
URL:https://dcsmallbizhelp.com/events/developing-financial-projections-for
 -your-new-small-business/
SUMMARY:Developing Financial Projections for Your New Small Business
DESCRIPTION:In this webinar\, you will learn how to develop financial proje
 ctions for your small business and answer any questions you have regarding
  profits and cash flow. 
ATTACH;FMTTYPE=image/jpeg:https://dcsmallbizhelp.com/wp-content/uploads/20
 25/07/download.png
CATEGORIES:Webinars
LOCATION:\, \, 
X-APPLE-STRUCTURED-LOCATION;VALUE=URI;X-ADDRESS=\, ;X-APPLE-RADIUS=100;X-TI
 TLE=:geo:0,0
END:VEVENT
END:VCALENDAR