BEGIN:VCALENDAR
VERSION:2.0
PRODID:-//wp-events-plugin.com//7.2.3.1//EN
BEGIN:VEVENT
UID:466@dcsmallbizhelp.com
DTSTART:20250331T170000Z
DTEND:20250331T180000Z
DTSTAMP:20250317T133206Z
URL:https://dcsmallbizhelp.com/events/common-loan-application-mistakes/
SUMMARY:Common Loan Application Mistakes
DESCRIPTION:This webinar will show how small business owners can ensure pap
 erwork\, financials and business plans are of the highest quality to incre
 ase approval odds.
ATTACH;FMTTYPE=image/jpeg:https://dcsmallbizhelp.com/wp-content/uploads/20
 25/03/Screenshot-2025-03-17-at-9.30.50 AM.png
CATEGORIES:Webinars
LOCATION:\, \, 
X-APPLE-STRUCTURED-LOCATION;VALUE=URI;X-ADDRESS=\, ;X-APPLE-RADIUS=100;X-TI
 TLE=:geo:0,0
END:VEVENT
END:VCALENDAR