BEGIN:VCALENDAR
VERSION:2.0
PRODID:-//wp-events-plugin.com//7.2.3.1//EN
BEGIN:VEVENT
UID:830@dcsmallbizhelp.com
DTSTART:20250812T100000Z
DTEND:20250812T140000Z
DTSTAMP:20250902T194224Z
URL:https://dcsmallbizhelp.com/events/commercial-leasing-avoiding-pitfalls
 -and-landmines-copy-2/
SUMMARY:Analyze: Fortifying Professional Presence for Rapid Growth
DESCRIPTION:The CBE Velocity Series is designed to equip certified business
  enterprises (CBE) with the essential tools and insights to not only keep 
 pace\, but to surge ahead.
ATTACH;FMTTYPE=image/jpeg:https://dcsmallbizhelp.com/wp-content/uploads/20
 25/09/MMI.png
CATEGORIES:Technical Assistance,Workshop
END:VEVENT
END:VCALENDAR