BEGIN:VCALENDAR
VERSION:2.0
PRODID:-//wp-events-plugin.com//7.2.3.1//EN
BEGIN:VEVENT
UID:835@dcsmallbizhelp.com
DTSTART:20250818T100000Z
DTEND:20250818T113000Z
DTSTAMP:20250902T200621Z
URL:https://dcsmallbizhelp.com/events/certified-up-expert-open-hours-copy-
 copy-copy-copy/
SUMMARY:ID Compliance
DESCRIPTION:ID Compliance is a foundation course focused on preventing unde
 rage drinking by reducing youth access to alcohol through retailer educati
 on.
ATTACH;FMTTYPE=image/jpeg:https://dcsmallbizhelp.com/wp-content/uploads/20
 25/09/download.png
CATEGORIES:Technical Assistance,Workshop
LOCATION:\, \, 
X-APPLE-STRUCTURED-LOCATION;VALUE=URI;X-ADDRESS=\, ;X-APPLE-RADIUS=100;X-TI
 TLE=:geo:0,0
END:VEVENT
END:VCALENDAR