BEGIN:VCALENDAR
VERSION:2.0
PRODID:-//wp-events-plugin.com//7.2.3.1//EN
BEGIN:VEVENT
UID:840@dcsmallbizhelp.com
DTSTART:20250821T160000Z
DTEND:20250821T170000Z
DTSTAMP:20250904T152646Z
URL:https://dcsmallbizhelp.com/events/certified-up-expert-open-hours-copy-
 copy-copy-copy-6/
SUMMARY:Go-to-Market Storytelling for Product-Based Founder
DESCRIPTION:The Nasdaq Center we'll dive into how to craft and adapt your g
 o-to-market story for the retail landscape— how to position your product
  for retail buyers\, align your messaging to the shopping experience\, cre
 ate consistency between in-store and digital experiences\, and use storyte
 lling to strengthen brand recall\, drive engagement\, and support long-ter
 m.
ATTACH;FMTTYPE=image/jpeg:https://dcsmallbizhelp.com/wp-content/uploads/20
 25/09/Nasdaq.png
CATEGORIES:Technical Assistance,Workshop
LOCATION:\, \, 
X-APPLE-STRUCTURED-LOCATION;VALUE=URI;X-ADDRESS=\, ;X-APPLE-RADIUS=100;X-TI
 TLE=:geo:0,0
END:VEVENT
END:VCALENDAR