BEGIN:VCALENDAR
VERSION:2.0
PRODID:-//wp-events-plugin.com//7.2.3.1//EN
BEGIN:VEVENT
UID:839@dcsmallbizhelp.com
DTSTART:20250820T150000Z
DTEND:20250820T160000Z
DTSTAMP:20250904T150156Z
URL:https://dcsmallbizhelp.com/events/certified-up-expert-open-hours-copy-
 copy-copy-copy-5/
SUMMARY:Paraguay’s Business and Investment Opportunities
DESCRIPTION:Join us for an insightful webinar highlighting Paraguay’s gro
 wing appeal as a destination for international investment. With abundant h
 ydroelectric power\, investor-friendly regulations\, and competitive tax i
 ncentives like the “10-10-10” regime\, Paraguay offers unique opportun
 ities across energy\, agroindustry\, infrastructure\, and manufacturing.
ATTACH;FMTTYPE=image/jpeg:https://dcsmallbizhelp.com/wp-content/uploads/20
 25/09/Greater-Washington-HIspanic-Chamber-of-Commerce.png
CATEGORIES:Technical Assistance,Workshop
LOCATION:\, \, 
X-APPLE-STRUCTURED-LOCATION;VALUE=URI;X-ADDRESS=\, ;X-APPLE-RADIUS=100;X-TI
 TLE=:geo:0,0
END:VEVENT
END:VCALENDAR