BEGIN:VCALENDAR
VERSION:2.0
PRODID:-//wp-events-plugin.com//7.2.3.1//EN
BEGIN:VEVENT
UID:848@dcsmallbizhelp.com
DTSTART:20250828T160000Z
DTEND:20250828T173000Z
DTSTAMP:20250904T175448Z
URL:https://dcsmallbizhelp.com/events/certified-up-expert-open-hours-copy-
 copy-copy-copy-12/
SUMMARY:Own the Room: Public Speaking for Small Business Owners
DESCRIPTION:You know your business better than anyone — now it’s time t
 o talk about it like a pro. Whether you're pitching to potential partners\
 , speaking at markets\, or networking with new clients\, how you present y
 our business matters. You’ll get the chance to practice your pitch live 
 and receive personalized feedback from Viviana herself!
ATTACH;FMTTYPE=image/jpeg:https://dcsmallbizhelp.com/wp-content/uploads/20
 25/08/SSTB.png
CATEGORIES:Technical Assistance,Workshop
LOCATION:\, \, 
X-APPLE-STRUCTURED-LOCATION;VALUE=URI;X-ADDRESS=\, ;X-APPLE-RADIUS=100;X-TI
 TLE=:geo:0,0
END:VEVENT
END:VCALENDAR